Package: SUITOR Version: 1.11.0 Command: chmod a+r SUITOR -R && F:\biocbuild\bbs-3.22-bioc\R\bin\R.exe CMD build --keep-empty-dirs --no-resave-data SUITOR StartedAt: 2025-08-14 23:38:30 -0400 (Thu, 14 Aug 2025) EndedAt: 2025-08-14 23:39:51 -0400 (Thu, 14 Aug 2025) EllapsedTime: 80.8 seconds RetCode: 0 Status: OK PackageFile: SUITOR_1.11.0.tar.gz PackageFileSize: 253.2 KiB