Package: STdeconvolve Version: 1.11.1 Command: F:\biocbuild\bbs-3.22-bioc\R\bin\R.exe CMD INSTALL STdeconvolve StartedAt: 2025-04-08 17:23:39 -0400 (Tue, 08 Apr 2025) EndedAt: 2025-04-08 17:23:40 -0400 (Tue, 08 Apr 2025) EllapsedTime: 0.4 seconds RetCode: 1 Status: ERROR