Package: STdeconvolve Version: 1.11.1 Command: chmod a+r STdeconvolve -R && F:\biocbuild\bbs-3.22-bioc\R\bin\R.exe CMD build --keep-empty-dirs --no-resave-data STdeconvolve StartedAt: 2025-04-08 22:42:53 -0400 (Tue, 08 Apr 2025) EndedAt: 2025-04-08 22:42:55 -0400 (Tue, 08 Apr 2025) EllapsedTime: 2.6 seconds RetCode: 1 Status: ERROR PackageFile: None PackageFileSize: NA