Package: STRINGdb Version: 2.21.0 Command: rm -rf STRINGdb.buildbin-libdir && mkdir STRINGdb.buildbin-libdir && F:\biocbuild\bbs-3.22-bioc\R\bin\R.exe CMD INSTALL --build --library=STRINGdb.buildbin-libdir STRINGdb_2.21.0.tar.gz StartedAt: 2025-08-15 11:26:24 -0400 (Fri, 15 Aug 2025) EndedAt: 2025-08-15 11:26:48 -0400 (Fri, 15 Aug 2025) EllapsedTime: 24.6 seconds RetCode: 0 Status: OK PackageFile: STRINGdb_2.21.0.zip PackageFileSize: 10.06 MiB