Package: STRINGdb Version: 2.21.0 Command: /Library/Frameworks/R.framework/Resources/bin/R CMD build --keep-empty-dirs --no-resave-data STRINGdb StartedAt: 2025-07-01 18:45:27 -0400 (Tue, 01 Jul 2025) EndedAt: 2025-07-01 18:50:00 -0400 (Tue, 01 Jul 2025) EllapsedTime: 273.1 seconds RetCode: 0 Status: OK PackageFile: STRINGdb_2.21.0.tar.gz PackageFileSize: 9.948 MiB