Package: STRINGdb Version: 2.21.0 Command: /Library/Frameworks/R.framework/Resources/bin/R CMD INSTALL STRINGdb StartedAt: 2025-07-07 15:05:55 -0400 (Mon, 07 Jul 2025) EndedAt: 2025-07-07 15:06:02 -0400 (Mon, 07 Jul 2025) EllapsedTime: 7.1 seconds RetCode: 0 Status: OK