Package: STRINGdb Version: 2.21.0 Command: /Library/Frameworks/R.framework/Resources/bin/R CMD build --keep-empty-dirs --no-resave-data STRINGdb StartedAt: 2025-07-07 17:41:11 -0400 (Mon, 07 Jul 2025) EndedAt: 2025-07-07 17:44:16 -0400 (Mon, 07 Jul 2025) EllapsedTime: 185.3 seconds RetCode: 0 Status: OK PackageFile: STRINGdb_2.21.0.tar.gz PackageFileSize: 9.947 MiB