Package: STATegRa Version: 1.45.0 Command: /home/biocbuild/R/R/bin/R CMD INSTALL STATegRa StartedAt: 2025-07-10 21:18:23 -0000 (Thu, 10 Jul 2025) EndedAt: 2025-07-10 21:18:45 -0000 (Thu, 10 Jul 2025) EllapsedTime: 21.8 seconds RetCode: 0 Status: OK