Package: STATegRa Version: 1.45.0 Command: /home/biocbuild/R/R/bin/R CMD check --install=check:STATegRa.install-out.txt --library=/home/biocbuild/R/R/site-library --no-vignettes --timings STATegRa_1.45.0.tar.gz StartedAt: 2025-07-11 12:50:18 -0000 (Fri, 11 Jul 2025) EndedAt: 2025-07-11 12:54:36 -0000 (Fri, 11 Jul 2025) EllapsedTime: 258.3 seconds RetCode: 0 Status: OK CheckDir: STATegRa.Rcheck Warnings: 0