Package: STATegRa Version: 1.45.0 Command: chmod a+r STATegRa -R && F:\biocbuild\bbs-3.22-bioc\R\bin\R.exe CMD build --keep-empty-dirs --no-resave-data STATegRa StartedAt: 2025-06-27 22:24:56 -0400 (Fri, 27 Jun 2025) EndedAt: 2025-06-27 22:28:02 -0400 (Fri, 27 Jun 2025) EllapsedTime: 185.8 seconds RetCode: 0 Status: OK PackageFile: STATegRa_1.45.0.tar.gz PackageFileSize: 4.156 MiB