Package: SRAdb Version: 1.71.0 Command: F:\biocbuild\bbs-3.22-bioc\R\bin\R.exe CMD INSTALL SRAdb StartedAt: 2025-07-14 15:36:36 -0400 (Mon, 14 Jul 2025) EndedAt: 2025-07-14 15:36:58 -0400 (Mon, 14 Jul 2025) EllapsedTime: 22.2 seconds RetCode: 0 Status: OK