Package: SRAdb Version: 1.71.0 Command: F:\biocbuild\bbs-3.22-bioc\R\bin\R.exe CMD check --no-multiarch --install=check:SRAdb.install-out.txt --library=F:\biocbuild\bbs-3.22-bioc\R\library --no-vignettes --timings SRAdb_1.71.0.tar.gz StartedAt: 2025-07-15 07:04:20 -0400 (Tue, 15 Jul 2025) EndedAt: 2025-07-15 07:05:05 -0400 (Tue, 15 Jul 2025) EllapsedTime: 45.2 seconds RetCode: 0 Status: OK CheckDir: SRAdb.Rcheck Warnings: 0