Package: SRAdb Version: 1.71.0 Command: chmod a+r SRAdb -R && F:\biocbuild\bbs-3.22-bioc\R\bin\R.exe CMD build --keep-empty-dirs --no-resave-data SRAdb StartedAt: 2025-07-14 22:25:30 -0400 (Mon, 14 Jul 2025) EndedAt: 2025-07-14 22:25:52 -0400 (Mon, 14 Jul 2025) EllapsedTime: 21.2 seconds RetCode: 0 Status: OK PackageFile: SRAdb_1.71.0.tar.gz PackageFileSize: 767.2 KiB