Package: SRAdb Version: 1.71.0 Command: rm -rf SRAdb.buildbin-libdir && mkdir SRAdb.buildbin-libdir && F:\biocbuild\bbs-3.22-bioc\R\bin\R.exe CMD INSTALL --build --library=SRAdb.buildbin-libdir SRAdb_1.71.0.tar.gz StartedAt: 2025-07-15 10:04:32 -0400 (Tue, 15 Jul 2025) EndedAt: 2025-07-15 10:04:46 -0400 (Tue, 15 Jul 2025) EllapsedTime: 13.3 seconds RetCode: 0 Status: OK PackageFile: SRAdb_1.71.0.zip PackageFileSize: 717.5 KiB