Package: SPONGE Version: 1.31.0 Command: /home/biocbuild/R/R/bin/R CMD INSTALL SPONGE StartedAt: 2025-07-17 20:43:32 -0000 (Thu, 17 Jul 2025) EndedAt: 2025-07-17 20:45:00 -0000 (Thu, 17 Jul 2025) EllapsedTime: 88.6 seconds RetCode: 0 Status: OK