Package: SPONGE Version: 1.31.0 Command: /home/biocbuild/R/R/bin/R CMD build --keep-empty-dirs --no-resave-data SPONGE StartedAt: 2025-07-18 03:23:37 -0000 (Fri, 18 Jul 2025) EndedAt: 2025-07-18 03:27:47 -0000 (Fri, 18 Jul 2025) EllapsedTime: 250.1 seconds RetCode: 0 Status: OK PackageFile: SPONGE_1.31.0.tar.gz PackageFileSize: 8.814 MiB