Package: SPONGE Version: 1.31.0 Command: /Library/Frameworks/R.framework/Resources/bin/R CMD check --install=check:SPONGE.install-out.txt --library=/Library/Frameworks/R.framework/Resources/library --no-vignettes --timings SPONGE_1.31.0.tar.gz StartedAt: 2025-07-14 23:54:50 -0400 (Mon, 14 Jul 2025) EndedAt: 2025-07-15 00:00:56 -0400 (Tue, 15 Jul 2025) EllapsedTime: 366.4 seconds RetCode: 0 Status: WARNINGS CheckDir: SPONGE.Rcheck Warnings: 5