Package: SPICEY Version: 0.99.3 Command: /home/biocbuild/R/R/bin/R CMD INSTALL SPICEY StartedAt: 2025-10-06 21:01:35 -0000 (Mon, 06 Oct 2025) EndedAt: 2025-10-06 21:01:50 -0000 (Mon, 06 Oct 2025) EllapsedTime: 15.4 seconds RetCode: 0 Status: OK