Package: SPICEY Version: 0.99.3 Command: /home/biocbuild/R/R/bin/R CMD check --install=check:SPICEY.install-out.txt --library=/home/biocbuild/R/R/site-library --no-vignettes --timings SPICEY_0.99.3.tar.gz StartedAt: 2025-10-07 12:30:16 -0000 (Tue, 07 Oct 2025) EndedAt: 2025-10-07 12:33:46 -0000 (Tue, 07 Oct 2025) EllapsedTime: 209.3 seconds RetCode: 0 Status: OK CheckDir: SPICEY.Rcheck Warnings: 0