Package: SPICEY Version: 0.99.3 Command: /home/biocbuild/bbs-3.22-bioc/R/bin/R CMD build --keep-empty-dirs --no-resave-data --md5 SPICEY StartedAt: 2025-10-05 20:20:01 -0400 (Sun, 05 Oct 2025) EndedAt: 2025-10-05 20:20:43 -0400 (Sun, 05 Oct 2025) EllapsedTime: 42.0 seconds RetCode: 0 Status: OK PackageFile: SPICEY_0.99.3.tar.gz PackageFileSize: 988.3 KiB