Package: SPICEY Version: 0.99.3 Command: /Library/Frameworks/R.framework/Resources/bin/R CMD build --keep-empty-dirs --no-resave-data SPICEY StartedAt: 2025-10-06 19:13:37 -0400 (Mon, 06 Oct 2025) EndedAt: 2025-10-06 19:14:33 -0400 (Mon, 06 Oct 2025) EllapsedTime: 56.1 seconds RetCode: 0 Status: OK PackageFile: SPICEY_0.99.3.tar.gz PackageFileSize: 982.4 KiB