Package: SPIA Version: 2.61.0 Command: /home/biocbuild/R/R/bin/R CMD build --keep-empty-dirs --no-resave-data SPIA StartedAt: 2025-07-15 03:13:46 -0000 (Tue, 15 Jul 2025) EndedAt: 2025-07-15 03:17:26 -0000 (Tue, 15 Jul 2025) EllapsedTime: 220.1 seconds RetCode: 0 Status: OK PackageFile: SPIA_2.61.0.tar.gz PackageFileSize: 2.542 MiB