Package: SPIA Version: 2.61.0 Command: F:\biocbuild\bbs-3.22-bioc\R\bin\R.exe CMD check --no-multiarch --install=check:SPIA.install-out.txt --library=F:\biocbuild\bbs-3.22-bioc\R\library --no-vignettes --timings SPIA_2.61.0.tar.gz StartedAt: 2025-07-18 06:56:41 -0400 (Fri, 18 Jul 2025) EndedAt: 2025-07-18 07:03:50 -0400 (Fri, 18 Jul 2025) EllapsedTime: 428.3 seconds RetCode: 0 Status: OK CheckDir: SPIA.Rcheck Warnings: 0