Package: SPIA Version: 2.61.0 Command: chmod a+r SPIA -R && F:\biocbuild\bbs-3.22-bioc\R\bin\R.exe CMD build --keep-empty-dirs --no-resave-data SPIA StartedAt: 2025-07-16 22:18:19 -0400 (Wed, 16 Jul 2025) EndedAt: 2025-07-16 22:24:29 -0400 (Wed, 16 Jul 2025) EllapsedTime: 369.8 seconds RetCode: 0 Status: OK PackageFile: SPIA_2.61.0.tar.gz PackageFileSize: 2.45 MiB