Package: SPIA Version: 2.61.0 Command: rm -rf SPIA.buildbin-libdir && mkdir SPIA.buildbin-libdir && F:\biocbuild\bbs-3.22-bioc\R\bin\R.exe CMD INSTALL --build --library=SPIA.buildbin-libdir SPIA_2.61.0.tar.gz StartedAt: 2025-07-17 10:05:57 -0400 (Thu, 17 Jul 2025) EndedAt: 2025-07-17 10:06:10 -0400 (Thu, 17 Jul 2025) EllapsedTime: 12.9 seconds RetCode: 0 Status: OK PackageFile: SPIA_2.61.0.zip PackageFileSize: 2.444 MiB