Package: SPIA Version: 2.61.0 Command: /Library/Frameworks/R.framework/Resources/bin/R CMD INSTALL SPIA StartedAt: 2025-07-01 15:41:21 -0400 (Tue, 01 Jul 2025) EndedAt: 2025-07-01 15:41:28 -0400 (Tue, 01 Jul 2025) EllapsedTime: 7.1 seconds RetCode: 0 Status: OK