Package: SPIA Version: 2.61.0 Command: rm -rf SPIA.buildbin-libdir && mkdir SPIA.buildbin-libdir && /Users/biocbuild/BBS/utils/build-universal.sh SPIA_2.61.0.tar.gz /Library/Frameworks/R.framework/Resources/bin/R SPIA.buildbin-libdir StartedAt: 2025-07-02 01:22:21 -0400 (Wed, 02 Jul 2025) EndedAt: 2025-07-02 01:22:30 -0400 (Wed, 02 Jul 2025) EllapsedTime: 9.3 seconds RetCode: 0 Status: OK PackageFile: SPIA_2.61.0.tgz PackageFileSize: 2.536 MiB