Package: SPIA Version: 2.61.0 Command: /Library/Frameworks/R.framework/Resources/bin/R CMD INSTALL SPIA StartedAt: 2025-07-11 15:08:29 -0400 (Fri, 11 Jul 2025) EndedAt: 2025-07-11 15:08:32 -0400 (Fri, 11 Jul 2025) EllapsedTime: 3.1 seconds RetCode: 0 Status: OK