Package: SPIA Version: 2.61.0 Command: /Library/Frameworks/R.framework/Resources/bin/R CMD check --install=check:SPIA.install-out.txt --library=/Library/Frameworks/R.framework/Resources/library --no-vignettes --timings SPIA_2.61.0.tar.gz StartedAt: 2025-07-11 21:36:41 -0400 (Fri, 11 Jul 2025) EndedAt: 2025-07-11 21:39:10 -0400 (Fri, 11 Jul 2025) EllapsedTime: 148.7 seconds RetCode: 0 Status: OK CheckDir: SPIA.Rcheck Warnings: 0