Package: SPIA Version: 2.61.0 Command: /Library/Frameworks/R.framework/Resources/bin/R CMD build --keep-empty-dirs --no-resave-data SPIA StartedAt: 2025-07-11 17:40:08 -0400 (Fri, 11 Jul 2025) EndedAt: 2025-07-11 17:42:36 -0400 (Fri, 11 Jul 2025) EllapsedTime: 147.8 seconds RetCode: 0 Status: OK PackageFile: SPIA_2.61.0.tar.gz PackageFileSize: 2.549 MiB