Package: SPEM Version: 1.49.0 Command: /home/biocbuild/R/R/bin/R CMD INSTALL SPEM StartedAt: 2025-07-14 20:26:05 -0000 (Mon, 14 Jul 2025) EndedAt: 2025-07-14 20:26:19 -0000 (Mon, 14 Jul 2025) EllapsedTime: 13.7 seconds RetCode: 0 Status: OK