Package: SPEM Version: 1.49.0 Command: /home/biocbuild/R/R/bin/R CMD check --install=check:SPEM.install-out.txt --library=/home/biocbuild/R/R/site-library --no-vignettes --timings SPEM_1.49.0.tar.gz StartedAt: 2025-07-15 12:08:51 -0000 (Tue, 15 Jul 2025) EndedAt: 2025-07-15 12:09:45 -0000 (Tue, 15 Jul 2025) EllapsedTime: 54.1 seconds RetCode: 0 Status: OK CheckDir: SPEM.Rcheck Warnings: 0