Package: SOMNiBUS Version: 1.17.0 Command: /home/biocbuild/R/R/bin/R CMD INSTALL SOMNiBUS StartedAt: 2025-07-10 21:57:45 -0000 (Thu, 10 Jul 2025) EndedAt: 2025-07-10 21:58:48 -0000 (Thu, 10 Jul 2025) EllapsedTime: 62.5 seconds RetCode: 0 Status: OK