Package: SOMNiBUS Version: 1.17.0 Command: /home/biocbuild/R/R/bin/R CMD build --keep-empty-dirs --no-resave-data SOMNiBUS StartedAt: 2025-07-11 04:09:49 -0000 (Fri, 11 Jul 2025) EndedAt: 2025-07-11 04:13:39 -0000 (Fri, 11 Jul 2025) EllapsedTime: 230.2 seconds RetCode: 0 Status: OK PackageFile: SOMNiBUS_1.17.0.tar.gz PackageFileSize: 1.09 MiB