Package: SOMNiBUS Version: 1.17.0 Command: F:\biocbuild\bbs-3.22-bioc\R\bin\R.exe CMD INSTALL SOMNiBUS StartedAt: 2025-07-13 16:41:54 -0400 (Sun, 13 Jul 2025) EndedAt: 2025-07-13 16:42:54 -0400 (Sun, 13 Jul 2025) EllapsedTime: 59.2 seconds RetCode: 0 Status: OK