Package: SOMNiBUS Version: 1.17.0 Command: chmod a+r SOMNiBUS -R && F:\biocbuild\bbs-3.22-bioc\R\bin\R.exe CMD build --keep-empty-dirs --no-resave-data SOMNiBUS StartedAt: 2025-07-13 22:17:21 -0400 (Sun, 13 Jul 2025) EndedAt: 2025-07-13 22:22:03 -0400 (Sun, 13 Jul 2025) EllapsedTime: 282.0 seconds RetCode: 0 Status: OK PackageFile: SOMNiBUS_1.17.0.tar.gz PackageFileSize: 1.002 MiB