Package: SOMNiBUS Version: 1.17.0 Command: /home/biocbuild/bbs-3.22-bioc/R/bin/R CMD build --keep-empty-dirs --no-resave-data --md5 SOMNiBUS StartedAt: 2025-07-11 19:13:57 -0400 (Fri, 11 Jul 2025) EndedAt: 2025-07-11 19:18:15 -0400 (Fri, 11 Jul 2025) EllapsedTime: 258.2 seconds RetCode: 0 Status: OK PackageFile: SOMNiBUS_1.17.0.tar.gz PackageFileSize: 1.104 MiB