Package: SNPhood Version: 1.39.0 Command: /home/biocbuild/R/R/bin/R CMD INSTALL SNPhood StartedAt: 2025-07-24 21:49:51 -0000 (Thu, 24 Jul 2025) EndedAt: 2025-07-24 21:51:14 -0000 (Thu, 24 Jul 2025) EllapsedTime: 83.9 seconds RetCode: 0 Status: OK