Package: SNPhood Version: 1.39.0 Command: /Library/Frameworks/R.framework/Resources/bin/R CMD INSTALL SNPhood StartedAt: 2025-10-05 15:21:38 -0400 (Sun, 05 Oct 2025) EndedAt: 2025-10-05 15:22:05 -0400 (Sun, 05 Oct 2025) EllapsedTime: 26.2 seconds RetCode: 0 Status: OK