Package: SNPhood Version: 1.39.0 Command: /Library/Frameworks/R.framework/Resources/bin/R CMD check --install=check:SNPhood.install-out.txt --library=/Library/Frameworks/R.framework/Resources/library --no-vignettes --timings SNPhood_1.39.0.tar.gz StartedAt: 2025-10-05 21:52:57 -0400 (Sun, 05 Oct 2025) EndedAt: 2025-10-05 21:56:55 -0400 (Sun, 05 Oct 2025) EllapsedTime: 237.6 seconds RetCode: 0 Status: OK CheckDir: SNPhood.Rcheck Warnings: 0