Package: SNPhood Version: 1.39.0 Command: /Library/Frameworks/R.framework/Resources/bin/R CMD build --keep-empty-dirs --no-resave-data SNPhood StartedAt: 2025-10-05 17:50:23 -0400 (Sun, 05 Oct 2025) EndedAt: 2025-10-05 17:52:19 -0400 (Sun, 05 Oct 2025) EllapsedTime: 115.2 seconds RetCode: 0 Status: OK PackageFile: SNPhood_1.39.0.tar.gz PackageFileSize: 6.775 MiB