Package: SNPRelate Version: 1.43.1 Command: /Library/Frameworks/R.framework/Resources/bin/R CMD build --keep-empty-dirs --no-resave-data SNPRelate StartedAt: 2025-10-08 19:24:59 -0400 (Wed, 08 Oct 2025) EndedAt: 2025-10-08 19:26:05 -0400 (Wed, 08 Oct 2025) EllapsedTime: 66.7 seconds RetCode: 0 Status: OK PackageFile: SNPRelate_1.43.1.tar.gz PackageFileSize: 3.361 MiB