Back to Multiple platform build/check report for BioC 3.22:   simplified   long
ABCDEFGHIJKLMNOPQR[S]TUVWXYZ

This page was generated on 2025-06-28 12:05 -0400 (Sat, 28 Jun 2025).

HostnameOSArch (*)R versionInstalled pkgs
nebbiolo2Linux (Ubuntu 24.04.2 LTS)x86_644.5.1 (2025-06-13) -- "Great Square Root" 4775
palomino8Windows Server 2022 Datacenterx644.5.1 (2025-06-13 ucrt) -- "Great Square Root" 4517
lconwaymacOS 12.7.1 Montereyx86_644.5.1 (2025-06-13) -- "Great Square Root" 4559
kjohnson3macOS 13.7.1 Venturaarm644.5.1 Patched (2025-06-14 r88325) -- "Great Square Root" 4500
taishanLinux (openEuler 24.03 LTS)aarch644.5.0 (2025-04-11) -- "How About a Twenty-Six" 4499
Click on any hostname to see more info about the system (e.g. compilers)      (*) as reported by 'uname -p', except on Windows and Mac OS X

All results for package SNPRelate


To the developers/maintainers of the SNPRelate package:
- Allow up to 24 hours (and sometimes 48 hours) for your latest push to git@git.bioconductor.org:packages/SNPRelate.git to reflect on this report. See Troubleshooting Build Report for more information.
- Use the following Renviron settings to reproduce errors and warnings.
- If 'R CMD check' started to fail recently on the Linux builder(s) over a missing dependency, add the missing dependency to 'Suggests:' in your DESCRIPTION file. See Renviron.bioc for more information.

raw results

Package 2014/2310HostnameOS / ArchINSTALLBUILDCHECKBUILD BIN
SNPRelate 1.43.0  (landing page)
Xiuwen Zheng
Snapshot Date: 2025-06-27 13:25 -0400 (Fri, 27 Jun 2025)
git_url: https://git.bioconductor.org/packages/SNPRelate
git_branch: devel
git_last_commit: ea8d5fb
git_last_commit_date: 2025-04-15 10:33:51 -0400 (Tue, 15 Apr 2025)
nebbiolo2Linux (Ubuntu 24.04.2 LTS) / x86_64  OK    OK    OK  UNNEEDED, same version is already published
palomino8Windows Server 2022 Datacenter / x64  OK    OK    OK    OK  UNNEEDED, same version is already published
lconwaymacOS 12.7.1 Monterey / x86_64  OK    OK    OK    OK  UNNEEDED, same version is already published
kjohnson3macOS 13.7.1 Ventura / arm64  OK    OK    OK    OK  UNNEEDED, same version is already published
taishanLinux (openEuler 24.03 LTS) / aarch64  OK    OK    OK  



Results for Bioconductor software packages that depend directly on package SNPRelate

QUICK STATSOS / ArchINSTALLBUILDCHECKBUILD BIN
nebbiolo2Linux (Ubuntu 24.04.2 LTS) / x86_64
007
016
0024
palomino8Windows Server 2022 Datacenter / x64
007
025
0023
005
lconwaymacOS 12.7.1 Monterey / x86_64
007
025
0023
005
kjohnson3macOS 13.7.1 Ventura / arm64
007
025
0023
005
taishanLinux (openEuler 24.03 LTS) / aarch64
007
016
0024
Package 1/7HostnameOS / ArchINSTALLBUILDCHECKBUILD BIN
CNVRanger 1.25.4  (landing page)
Ludwig Geistlinger
git_last_commit: 82ec0ea
git_last_commit_date: 2025-05-08 12:17:16 -0400
nebbiolo2Linux (Ubuntu 24.04.2 LTS) / x86_64  OK    OK    OK  UNNEEDED, same version is already published
palomino8Windows Server 2022 Datacenter / x64  OK    OK    OK    OK  UNNEEDED, same version is already published
lconwaymacOS 12.7.1 Monterey / x86_64  OK    OK    OK    OK  UNNEEDED, same version is already published
kjohnson3macOS 13.7.1 Ventura / arm64  OK    OK    OK    OK  UNNEEDED, same version is already published
taishanLinux (openEuler 24.03 LTS) / aarch64  OK    OK    OK  
Package 2/7HostnameOS / ArchINSTALLBUILDCHECKBUILD BIN
GDSArray 1.29.0  (landing page)
Xiuwen Zheng
git_last_commit: 72633ea
git_last_commit_date: 2025-04-15 11:20:17 -0400
nebbiolo2Linux (Ubuntu 24.04.2 LTS) / x86_64  OK    OK    OK  UNNEEDED, same version is already published
palomino8Windows Server 2022 Datacenter / x64  OK    OK    OK    OK  UNNEEDED, same version is already published
lconwaymacOS 12.7.1 Monterey / x86_64  OK    OK    OK    OK  UNNEEDED, same version is already published
kjohnson3macOS 13.7.1 Ventura / arm64  OK    OK    OK    OK  UNNEEDED, same version is already published
taishanLinux (openEuler 24.03 LTS) / aarch64  OK    OK    OK  
Package 3/7HostnameOS / ArchINSTALLBUILDCHECKBUILD BIN
GENESIS 2.39.0  (landing page)
Stephanie M. Gogarten
git_last_commit: 2c6c666
git_last_commit_date: 2025-04-15 10:49:11 -0400
nebbiolo2Linux (Ubuntu 24.04.2 LTS) / x86_64  OK    ERROR  skipped
palomino8Windows Server 2022 Datacenter / x64  OK    ERROR  skippedskipped
lconwaymacOS 12.7.1 Monterey / x86_64  OK    ERROR  skippedskipped
kjohnson3macOS 13.7.1 Ventura / arm64  OK    ERROR  skippedskipped
taishanLinux (openEuler 24.03 LTS) / aarch64  OK    ERROR  skipped
Package 4/7HostnameOS / ArchINSTALLBUILDCHECKBUILD BIN
gwasurvivr 1.27.0  (landing page)
Abbas Rizvi
git_last_commit: ceda955
git_last_commit_date: 2025-04-15 11:34:36 -0400
nebbiolo2Linux (Ubuntu 24.04.2 LTS) / x86_64  OK    OK    OK  UNNEEDED, same version is already published
palomino8Windows Server 2022 Datacenter / x64  OK    OK    OK    OK  UNNEEDED, same version is already published
lconwaymacOS 12.7.1 Monterey / x86_64  OK    OK    OK    OK  UNNEEDED, same version is already published
kjohnson3macOS 13.7.1 Ventura / arm64  OK    OK    OK    OK  UNNEEDED, same version is already published
taishanLinux (openEuler 24.03 LTS) / aarch64  OK    OK    OK  
Package 5/7HostnameOS / ArchINSTALLBUILDCHECKBUILD BIN
RAIDS 1.7.1  (landing page)
Pascal Belleau
git_last_commit: c0dfd0f
git_last_commit_date: 2025-04-15 22:44:24 -0400
nebbiolo2Linux (Ubuntu 24.04.2 LTS) / x86_64  OK    OK    WARNINGS  UNNEEDED, same version is already published
palomino8Windows Server 2022 Datacenter / x64  OK    OK    WARNINGS    OK  UNNEEDED, same version is already published
lconwaymacOS 12.7.1 Monterey / x86_64  OK    OK    WARNINGS    OK  UNNEEDED, same version is already published
kjohnson3macOS 13.7.1 Ventura / arm64  OK    OK    WARNINGS    OK  UNNEEDED, same version is already published
taishanLinux (openEuler 24.03 LTS) / aarch64  OK    OK    WARNINGS  
Package 6/7HostnameOS / ArchINSTALLBUILDCHECKBUILD BIN
SeqSQC 1.31.0  (landing page)
Qian Liu
git_last_commit: 961f011
git_last_commit_date: 2025-04-15 11:15:48 -0400
nebbiolo2Linux (Ubuntu 24.04.2 LTS) / x86_64  OK    OK    WARNINGS  UNNEEDED, same version is already published
palomino8Windows Server 2022 Datacenter / x64  OK    OK    WARNINGS    OK  UNNEEDED, same version is already published
lconwaymacOS 12.7.1 Monterey / x86_64  OK    OK    WARNINGS    OK  UNNEEDED, same version is already published
kjohnson3macOS 13.7.1 Ventura / arm64  OK    OK    WARNINGS    OK  UNNEEDED, same version is already published
taishanLinux (openEuler 24.03 LTS) / aarch64  OK    OK    WARNINGS  
Package 7/7HostnameOS / ArchINSTALLBUILDCHECKBUILD BIN
VariantExperiment 1.23.0  (landing page)
Qian Liu
git_last_commit: 3efd4d5
git_last_commit_date: 2025-04-15 11:49:03 -0400
nebbiolo2Linux (Ubuntu 24.04.2 LTS) / x86_64  OK    OK    OK  UNNEEDED, same version is already published
palomino8Windows Server 2022 Datacenter / x64  OK    ERROR  skippedskipped
lconwaymacOS 12.7.1 Monterey / x86_64  OK    ERROR  skippedskipped
kjohnson3macOS 13.7.1 Ventura / arm64  OK    ERROR  skippedskipped
taishanLinux (openEuler 24.03 LTS) / aarch64  OK    OK    OK