Package: SMITE Version: 1.37.0 Command: /home/biocbuild/R/R/bin/R CMD INSTALL SMITE StartedAt: 2025-07-24 21:51:09 -0000 (Thu, 24 Jul 2025) EndedAt: 2025-07-24 21:52:11 -0000 (Thu, 24 Jul 2025) EllapsedTime: 61.8 seconds RetCode: 0 Status: OK