Package: SMITE Version: 1.37.0 Command: /home/biocbuild/R/R/bin/R CMD build --keep-empty-dirs --no-resave-data SMITE StartedAt: 2025-07-25 03:58:03 -0000 (Fri, 25 Jul 2025) EndedAt: 2025-07-25 03:59:37 -0000 (Fri, 25 Jul 2025) EllapsedTime: 94.1 seconds RetCode: 0 Status: OK PackageFile: SMITE_1.37.0.tar.gz PackageFileSize: 3.107 MiB