Package: SMITE Version: 1.37.0 Command: /home/biocbuild/bbs-3.22-bioc/R/bin/R CMD INSTALL SMITE StartedAt: 2025-07-15 15:40:05 -0400 (Tue, 15 Jul 2025) EndedAt: 2025-07-15 15:40:52 -0400 (Tue, 15 Jul 2025) EllapsedTime: 46.9 seconds RetCode: 0 Status: OK