Package: SMITE Version: 1.37.0 Command: /Library/Frameworks/R.framework/Resources/bin/R CMD INSTALL SMITE StartedAt: 2025-07-20 15:45:44 -0400 (Sun, 20 Jul 2025) EndedAt: 2025-07-20 15:46:47 -0400 (Sun, 20 Jul 2025) EllapsedTime: 62.8 seconds RetCode: 0 Status: OK