Package: SMITE Version: 1.37.0 Command: rm -rf SMITE.buildbin-libdir && mkdir SMITE.buildbin-libdir && /Users/biocbuild/BBS/utils/build-universal.sh SMITE_1.37.0.tar.gz /Library/Frameworks/R.framework/Resources/bin/R SMITE.buildbin-libdir StartedAt: 2025-07-21 01:27:25 -0400 (Mon, 21 Jul 2025) EndedAt: 2025-07-21 01:28:32 -0400 (Mon, 21 Jul 2025) EllapsedTime: 66.9 seconds RetCode: 0 Status: OK PackageFile: SMITE_1.37.0.tgz PackageFileSize: 3.576 MiB