Package: SMITE Version: 1.37.0 Command: /Library/Frameworks/R.framework/Resources/bin/R CMD INSTALL SMITE StartedAt: 2025-07-14 15:22:09 -0400 (Mon, 14 Jul 2025) EndedAt: 2025-07-14 15:22:27 -0400 (Mon, 14 Jul 2025) EllapsedTime: 18.3 seconds RetCode: 0 Status: OK