Package: SMITE Version: 1.37.0 Command: /Library/Frameworks/R.framework/Resources/bin/R CMD build --keep-empty-dirs --no-resave-data SMITE StartedAt: 2025-07-14 17:37:19 -0400 (Mon, 14 Jul 2025) EndedAt: 2025-07-14 17:37:52 -0400 (Mon, 14 Jul 2025) EllapsedTime: 33.4 seconds RetCode: 0 Status: OK PackageFile: SMITE_1.37.0.tar.gz PackageFileSize: 3.12 MiB